BEGIN:VCALENDAR
VERSION:2.0
PRODID:-//wp-events-plugin.com//7.2.3.1//EN
TZID:Europe/Berlin
X-WR-TIMEZONE:Europe/Berlin
BEGIN:VEVENT
UID:389@wj-pb-hx.de
DTSTART;TZID=Europe/Berlin:20220215T190000
DTEND;TZID=Europe/Berlin:20220215T193000
DTSTAMP:20220211T004348Z
URL:https://www.wj-pb-hx.de/events/homepage-faq/
SUMMARY:Homepage FAQ
DESCRIPTION:Ihr habt noch Fragen zur Webseite?\nKevin führt euch 30 Minute
 n durch die wichtigsten Funktionen der neuen Homepage und steht euch für 
 alle Fragen zur Verfügung.\n\nBei Bedarf kann auch auf die dahinterliegen
 de Technik und einzelne Funktionen gesprochen werden.
ATTACH;FMTTYPE=image/jpeg:https://www.wj-pb-hx.de/wp-content/uploads/homep
 age.jpg
CATEGORIES:Veranstaltung
END:VEVENT
BEGIN:VTIMEZONE
TZID:Europe/Berlin
X-LIC-LOCATION:Europe/Berlin
BEGIN:STANDARD
DTSTART:20211031T020000
TZOFFSETFROM:+0200
TZOFFSETTO:+0100
TZNAME:CET
END:STANDARD
END:VTIMEZONE
END:VCALENDAR