BEGIN:VCALENDAR
VERSION:2.0
PRODID:-//wp-events-plugin.com//7.2.3.1//EN
TZID:Europe/Berlin
X-WR-TIMEZONE:Europe/Berlin
BEGIN:VEVENT
UID:663@wj-pb-hx.de
DTSTART;TZID=Europe/Berlin:20260526T180000
DTEND;TZID=Europe/Berlin:20260526T190000
DTSTAMP:20260420T083327Z
URL:https://www.wj-pb-hx.de/events/digitaler-infoabend-zum-mentoringprogra
 mm-sharexperience-2/
SUMMARY:Digitaler Infoabend zum Mentoringprogramm "ShareXperience"
DESCRIPTION:Seit dem Start unseres Mentoringprogramms ShareXperience im Jah
 r 2017 haben sich über 50 Tandems aus engagierten Wirtschaftsjunioren (Me
 ntees) und erfahrenen Mitgliedern des Wirtschaftsclubs (Mentoren) auf eine
  persönliche und vertrauensvolle Reise begeben. \n\nJährlich begleiten s
 ich die Tandems über zwölf Monate hinweg\, tauschen sich aus\, reflektie
 ren\, hinterfragen und wachsen gemeinsam – beruflich wie persönlich. Di
 eser intensive Austausch auf Augenhöhe ist längst ein Herzstück unseres
  Netzwerks geworden.\n\nBevor wir im November in die Jubiläums-Runde (10.
  Jahrgang) unseres Programms starten\, möchten wir Euch gerne vorab in ei
 nem kompakten\, digitalen Format informieren. \n\nIn nur 60 Minuten geben 
 wir Euch am 26. Mai ab 18 Uhr per Zoom einen Einblick in „ShareXperience
 “\, den Ablauf und die Teilnahmevoraussetzungen. \n\n•        
 Was erwartet Euch? \n\n•        Was genau steckt hinter dem Prog
 ramm ShareXperience? \n\n•        Wie läuft ein Mentoringjahr a
 b? \n\n•        Welche Voraussetzungen müsst Ihr erfüllen? \n\
 n•        Wie profitieren Mentees und Mentoren gleichermaßen? \
 n\nDie Teilnahme ist völlig unverbindlich – aber sehr hilfreich\, wenn 
 Ihr Euch dafür interessiert\, 2026/2027 als Mentee oder Mentor dabei zu s
 ein. \n\nHinweis: Das vollständige Präsenz-Informationsformat findet wie
  gewohnt im September in der IHK statt. Der digitale Infoabend dient als f
 rüher Einstieg und Entscheidungshilfe. Die Zahl der Tandems ist auf sechs
  pro Jahrgang begrenzt. Eine Teilnahme ist nur mit bestehender Mitgliedsch
 aft im Netzwerk der Wirtschaftsjunioren oder des Wirtschaftsclubs möglich
 . Aktuelle Interessenten\, die bis zur Präsenzveranstaltung vollwertige M
 itglieder der Wirtschaftsjunioren werden\, haben ebenfalls die Möglichkei
 t daran teilzunehmen\nWir freuen uns auf Euch und eure Fragen! \n\nEuer Pr
 ojektteam \nKerstin Stamm\, Sascha Golüke\, Anke Zillmann und Daniel Beer
 mann  \nWirtschaftsjunioren Paderborn+Höxter
CATEGORIES:Ressort Bildung &amp; Wirtschaft,Ressort Kultur &amp;
 Geselliges,Ressort Marketing,Ressort Unternehmertum,Ressort Zukunft &amp;
 Politik,Veranstaltung,Wirtschaftsclub
END:VEVENT
BEGIN:VTIMEZONE
TZID:Europe/Berlin
X-LIC-LOCATION:Europe/Berlin
BEGIN:DAYLIGHT
DTSTART:20260329T030000
TZOFFSETFROM:+0100
TZOFFSETTO:+0200
TZNAME:CEST
END:DAYLIGHT
END:VTIMEZONE
END:VCALENDAR