BEGIN:VCALENDAR
VERSION:2.0
PRODID:-//wp-events-plugin.com//7.2.3.1//EN
TZID:Europe/Berlin
X-WR-TIMEZONE:Europe/Berlin
BEGIN:VEVENT
UID:182@wj-pb-hx.de
DTSTART;TZID=Europe/Berlin:20180222T190000
DTEND;TZID=Europe/Berlin:20180222T220000
DTSTAMP:20180501T192652Z
URL:https://www.wj-pb-hx.de/events/ak-zukunft-politik-arbeitskreistreffen-
 02-2018/
SUMMARY:Ressort "Zukunft &amp\; Politik" - Arbeitskreistreffen 02/2018
DESCRIPTION:Liebe Ressort-Mitglieder\, liebe Interessenten.\n\nWir freuen u
 ns auf unser kommendes Arbeitskreistreffen am Donnerstag\, den 22. Februar
  2018\, um 19:00h an gewohnter Stelle im Gasthaus Haxterpark. Wir haben ei
 nige fantastische Veranstaltungsformate inhaltlich und strukturell vorzube
 reiten. Daher gibt es einiges zu besprechen. Die Zeit\, für Gespräche dr
 umherum wird nicht zu kurz kommen...\nInteressenten sind wie immer sehr ge
 rn gesehene Gäste.\n\nSeid Ihr dabei? Oder Ihr habt Anregungen bzw. Frage
 n im Vorfeld? Dann bitten wir um kurzes Feedback via Mail.\nMichael\n\nBil
 dquelle\nBeitragsbild: Gasthaus Haxterpark
ATTACH;FMTTYPE=image/jpeg:https://www.wj-pb-hx.de/wp-content/uploads/csm_0
 2_-_Gastraum_597c0831fe.jpg
CATEGORIES:Betriebsbesichtigung,Ressort Zukunft &amp;
 Politik,Veranstaltung
LOCATION:Gasthaus Haxterpark\, Haxterhöhe 2\, 33100 Paderborn\, Nordrhein-
 Westfalen\, Deutschland
GEO:51.6998752;8.777117800000042
X-APPLE-STRUCTURED-LOCATION;VALUE=URI;X-ADDRESS=Haxterhöhe 2\, 33100 Pader
 born\, Nordrhein-Westfalen\, Deutschland;X-APPLE-RADIUS=100;X-TITLE=Gastha
 us Haxterpark:geo:51.6998752,8.777117800000042
END:VEVENT
BEGIN:VTIMEZONE
TZID:Europe/Berlin
X-LIC-LOCATION:Europe/Berlin
BEGIN:STANDARD
DTSTART:20171029T020000
TZOFFSETFROM:+0200
TZOFFSETTO:+0100
TZNAME:CET
END:STANDARD
END:VTIMEZONE
END:VCALENDAR